BEGIN:VCALENDAR
VERSION:2.0
PRODID:-//DeinKalender//DE
CALSCALE:GREGORIAN
BEGIN:VEVENT
UID:69eb3963bee72@example.com
DTSTAMP:20260424T093531Z
DTSTART:20260424T073500Z
DTEND:20260424T083500Z
SUMMARY:Kalendereintrag
LOCATION:Kein Ort
DESCRIPTION:Kein Inhalt\nEinladung von Unbekannt (noreply@example.com)
ORGANIZER;CN=Unbekannt:MAILTO:noreply@example.com
END:VEVENT
END:VCALENDAR
